BEGIN:VCALENDAR
VERSION:2.0
PRODID:-//Stratis iCal API//FR
CALSCALE:GREGORIAN
X-WR-CALNAME:PUCES DES BRICOLEURS 2026
BEGIN:VEVENT
UID:event-24414
SUMMARY:PUCES DES BRICOLEURS 2026
DESCRIPTION:
DTSTAMP:20260420T123947Z
DTSTART:20260514T060000Z
DTEND:20260514T160000Z
STATUS:CONFIRMED
SEQUENCE:1
BEGIN:VALARM
TRIGGER:-PT30M
DESCRIPTION:PUCES DES BRICOLEURS 2026
ACTION:DISPLAY
END:VALARM
END:VEVENT
END:VCALENDAR